BEGIN:VCALENDAR
VERSION:2.0
PRODID:-//Blu J Agency - ECPv6.15.20//NONSGML v1.0//EN
CALSCALE:GREGORIAN
METHOD:PUBLISH
X-WR-CALNAME:Blu J Agency
X-ORIGINAL-URL:https://blujagency.com
X-WR-CALDESC:Events for Blu J Agency
REFRESH-INTERVAL;VALUE=DURATION:PT1H
X-Robots-Tag:noindex
X-PUBLISHED-TTL:PT1H
BEGIN:VTIMEZONE
TZID:America/New_York
BEGIN:DAYLIGHT
TZOFFSETFROM:-0500
TZOFFSETTO:-0400
TZNAME:EDT
DTSTART:20110313T070000
END:DAYLIGHT
BEGIN:STANDARD
TZOFFSETFROM:-0400
TZOFFSETTO:-0500
TZNAME:EST
DTSTART:20111106T060000
END:STANDARD
BEGIN:DAYLIGHT
TZOFFSETFROM:-0500
TZOFFSETTO:-0400
TZNAME:EDT
DTSTART:20120311T070000
END:DAYLIGHT
BEGIN:STANDARD
TZOFFSETFROM:-0400
TZOFFSETTO:-0500
TZNAME:EST
DTSTART:20121104T060000
END:STANDARD
BEGIN:DAYLIGHT
TZOFFSETFROM:-0500
TZOFFSETTO:-0400
TZNAME:EDT
DTSTART:20130310T070000
END:DAYLIGHT
BEGIN:STANDARD
TZOFFSETFROM:-0400
TZOFFSETTO:-0500
TZNAME:EST
DTSTART:20131103T060000
END:STANDARD
BEGIN:DAYLIGHT
TZOFFSETFROM:-0500
TZOFFSETTO:-0400
TZNAME:EDT
DTSTART:20140309T070000
END:DAYLIGHT
BEGIN:STANDARD
TZOFFSETFROM:-0400
TZOFFSETTO:-0500
TZNAME:EST
DTSTART:20141102T060000
END:STANDARD
BEGIN:DAYLIGHT
TZOFFSETFROM:-0500
TZOFFSETTO:-0400
TZNAME:EDT
DTSTART:20150308T070000
END:DAYLIGHT
BEGIN:STANDARD
TZOFFSETFROM:-0400
TZOFFSETTO:-0500
TZNAME:EST
DTSTART:20151101T060000
END:STANDARD
END:VTIMEZONE
BEGIN:VEVENT
DTSTART;TZID=America/New_York:20140531T140000
DTEND;TZID=America/New_York:20140531T160000
DTSTAMP:20260420T183722
CREATED:20181220T235718Z
LAST-MODIFIED:20190128T074009Z
UID:4511-1401544800-1401552000@blujagency.com
SUMMARY:Financial Fitness for Home Owernship
DESCRIPTION: Our FREE seminar will cover…\n•practical tips to save for home ownership\n•how to obtain a free credit report\n•how credit rating impacts mortgage financing\n•how to interpret your credit report and dispute inaccurate information\n•information on down payment assistance programs\n•REALTORS® available to answer your home questions\n\n\nRefreshements and gift cards will be provided. \n\nHosted by the Blu J Agency and Zeta Phi Beta Sorority\, Incoporated.
URL:https://blujagency.com/event/financial-fitness-for-home-owernship/
LOCATION:York County Regional Chamber\, 116 E. Main St\, Rock Hill\, SC\, 29731\, United States
END:VEVENT
BEGIN:VEVENT
DTSTART;TZID=America/New_York:20140222T130000
DTEND;TZID=America/New_York:20140222T150000
DTSTAMP:20260420T183722
CREATED:20181220T235716Z
LAST-MODIFIED:20190128T074005Z
UID:4509-1393074000-1393081200@blujagency.com
SUMMARY:Financial Fitness For Home Ownership
DESCRIPTION:Your first step to financial independence is understanding your credit score and borrowing ability. Even if you are not in the market to purchase a home\, this seminar will provide great credit and financial improvement information. \n\nOur FREE seminar will cover…\n• practical tips to save for home ownership\n• how to obtain a free credit report\n• how credit rating impacts mortgage financing\n• how to interpret your credit report and dispute inaccurate information\n• information on down payment assistance programs\n\nRefreshments & door prizes will be provided. Walk-ins welcome.\n\nDownload the seminar flyer.\n\nFor additional questions contact\, Jerrianne Jackson at 803.378.8844.\n\nSeminar sponsored in partnership with Zeta Phi Beta Sorority\, Incorporated – Delta Xi Zeta Chapter
URL:https://blujagency.com/event/financial-fitness-for-home-ownership/
LOCATION:York County Regional Chamber\, 116 E. Main St\, Rock Hill\, SC\, 29731\, United States
ATTACH;FMTTYPE=image/jpeg:https://blujagency.com/wp-content/uploads/2018/12/211466a9c2d13104263f6c39b9540ef9.jpg
END:VEVENT
BEGIN:VEVENT
DTSTART;TZID=America/New_York:20121027T120000
DTEND;TZID=America/New_York:20121027T140000
DTSTAMP:20260420T183722
CREATED:20181220T235715Z
LAST-MODIFIED:20190128T073955Z
UID:4507-1351339200-1351346400@blujagency.com
SUMMARY:Home Buyers Seminar
DESCRIPTION:
URL:https://blujagency.com/event/home-buyers-seminar/
LOCATION:Fort Mill Public Library\, 1818 2nd Baxter Crossing\, Fort Mill\, SC\, 29708\, United States
ATTACH;FMTTYPE=image/jpeg:https://blujagency.com/wp-content/uploads/2018/12/d906431362feae8cc8e003526e54b04e.jpg
END:VEVENT
END:VCALENDAR