BEGIN:VCALENDAR
VERSION:2.0
PRODID:-//Blu J Agency - ECPv6.15.20//NONSGML v1.0//EN
CALSCALE:GREGORIAN
METHOD:PUBLISH
X-WR-CALNAME:Blu J Agency
X-ORIGINAL-URL:https://blujagency.com
X-WR-CALDESC:Events for Blu J Agency
REFRESH-INTERVAL;VALUE=DURATION:PT1H
X-Robots-Tag:noindex
X-PUBLISHED-TTL:PT1H
BEGIN:VTIMEZONE
TZID:America/New_York
BEGIN:DAYLIGHT
TZOFFSETFROM:-0500
TZOFFSETTO:-0400
TZNAME:EDT
DTSTART:20180311T070000
END:DAYLIGHT
BEGIN:STANDARD
TZOFFSETFROM:-0400
TZOFFSETTO:-0500
TZNAME:EST
DTSTART:20181104T060000
END:STANDARD
BEGIN:DAYLIGHT
TZOFFSETFROM:-0500
TZOFFSETTO:-0400
TZNAME:EDT
DTSTART:20190310T070000
END:DAYLIGHT
BEGIN:STANDARD
TZOFFSETFROM:-0400
TZOFFSETTO:-0500
TZNAME:EST
DTSTART:20191103T060000
END:STANDARD
BEGIN:DAYLIGHT
TZOFFSETFROM:-0500
TZOFFSETTO:-0400
TZNAME:EDT
DTSTART:20200308T070000
END:DAYLIGHT
BEGIN:STANDARD
TZOFFSETFROM:-0400
TZOFFSETTO:-0500
TZNAME:EST
DTSTART:20201101T060000
END:STANDARD
END:VTIMEZONE
BEGIN:VEVENT
DTSTART;TZID=America/New_York:20191101T183000
DTEND;TZID=America/New_York:20191101T203000
DTSTAMP:20260420T194827
CREATED:20191012T114046Z
LAST-MODIFIED:20191017T132941Z
UID:6631-1572633000-1572640200@blujagency.com
SUMMARY:Blu J\, 6th Anniversary & Customer Appreciation Celebration
DESCRIPTION:Join us for our  sixth anniversary celebration honoring our valued clients and community partners.
URL:https://blujagency.com/event/blu-j-agency-6th-anniversary-drop-in-celebration/
LOCATION:Blu Place\, 703 Saluda Street\, Rock Hill\, SC\, 29730\, United States
ATTACH;FMTTYPE=image/jpeg:https://blujagency.com/wp-content/uploads/2019/10/da97841a3db0ae6775f5d0339cea21aa.jpg
END:VEVENT
END:VCALENDAR