BEGIN:VCALENDAR
VERSION:2.0
PRODID:-//Blu J Agency - ECPv6.15.20//NONSGML v1.0//EN
CALSCALE:GREGORIAN
METHOD:PUBLISH
X-WR-CALNAME:Blu J Agency
X-ORIGINAL-URL:https://blujagency.com
X-WR-CALDESC:Events for Blu J Agency
REFRESH-INTERVAL;VALUE=DURATION:PT1H
X-Robots-Tag:noindex
X-PUBLISHED-TTL:PT1H
BEGIN:VTIMEZONE
TZID:America/New_York
BEGIN:DAYLIGHT
TZOFFSETFROM:-0500
TZOFFSETTO:-0400
TZNAME:EDT
DTSTART:20110313T070000
END:DAYLIGHT
BEGIN:STANDARD
TZOFFSETFROM:-0400
TZOFFSETTO:-0500
TZNAME:EST
DTSTART:20111106T060000
END:STANDARD
BEGIN:DAYLIGHT
TZOFFSETFROM:-0500
TZOFFSETTO:-0400
TZNAME:EDT
DTSTART:20120311T070000
END:DAYLIGHT
BEGIN:STANDARD
TZOFFSETFROM:-0400
TZOFFSETTO:-0500
TZNAME:EST
DTSTART:20121104T060000
END:STANDARD
BEGIN:DAYLIGHT
TZOFFSETFROM:-0500
TZOFFSETTO:-0400
TZNAME:EDT
DTSTART:20130310T070000
END:DAYLIGHT
BEGIN:STANDARD
TZOFFSETFROM:-0400
TZOFFSETTO:-0500
TZNAME:EST
DTSTART:20131103T060000
END:STANDARD
BEGIN:DAYLIGHT
TZOFFSETFROM:-0500
TZOFFSETTO:-0400
TZNAME:EDT
DTSTART:20140309T070000
END:DAYLIGHT
BEGIN:STANDARD
TZOFFSETFROM:-0400
TZOFFSETTO:-0500
TZNAME:EST
DTSTART:20141102T060000
END:STANDARD
BEGIN:DAYLIGHT
TZOFFSETFROM:-0500
TZOFFSETTO:-0400
TZNAME:EDT
DTSTART:20150308T070000
END:DAYLIGHT
BEGIN:STANDARD
TZOFFSETFROM:-0400
TZOFFSETTO:-0500
TZNAME:EST
DTSTART:20151101T060000
END:STANDARD
BEGIN:DAYLIGHT
TZOFFSETFROM:-0500
TZOFFSETTO:-0400
TZNAME:EDT
DTSTART:20160313T070000
END:DAYLIGHT
BEGIN:STANDARD
TZOFFSETFROM:-0400
TZOFFSETTO:-0500
TZNAME:EST
DTSTART:20161106T060000
END:STANDARD
BEGIN:DAYLIGHT
TZOFFSETFROM:-0500
TZOFFSETTO:-0400
TZNAME:EDT
DTSTART:20170312T070000
END:DAYLIGHT
BEGIN:STANDARD
TZOFFSETFROM:-0400
TZOFFSETTO:-0500
TZNAME:EST
DTSTART:20171105T060000
END:STANDARD
BEGIN:DAYLIGHT
TZOFFSETFROM:-0500
TZOFFSETTO:-0400
TZNAME:EDT
DTSTART:20180311T070000
END:DAYLIGHT
BEGIN:STANDARD
TZOFFSETFROM:-0400
TZOFFSETTO:-0500
TZNAME:EST
DTSTART:20181104T060000
END:STANDARD
BEGIN:DAYLIGHT
TZOFFSETFROM:-0500
TZOFFSETTO:-0400
TZNAME:EDT
DTSTART:20190310T070000
END:DAYLIGHT
BEGIN:STANDARD
TZOFFSETFROM:-0400
TZOFFSETTO:-0500
TZNAME:EST
DTSTART:20191103T060000
END:STANDARD
END:VTIMEZONE
BEGIN:VEVENT
DTSTART;TZID=America/New_York:20180203T090000
DTEND;TZID=America/New_York:20180203T140000
DTSTAMP:20260421T195213
CREATED:20181220T235730Z
LAST-MODIFIED:20190128T074007Z
UID:4524-1517648400-1517666400@blujagency.com
SUMMARY:HOME BUYING & FINANCIAL SEMINAR
DESCRIPTION:This event has been cancelled and will be rescheduled for a future date. We sincerely apologize for any inconveniences. 
URL:https://blujagency.com/event/home-buying-financial-seminar/
LOCATION:Blu Place\, 703 Saluda Street\, Rock Hill\, SC\, 29730\, United States
ATTACH;FMTTYPE=image/jpeg:https://blujagency.com/wp-content/uploads/2018/12/e93cf7a80a96c6b680524c24bfa2a093.jpg
END:VEVENT
BEGIN:VEVENT
DTSTART;TZID=America/New_York:20170422T120000
DTEND;TZID=America/New_York:20170422T143000
DTSTAMP:20260421T195213
CREATED:20181220T235726Z
LAST-MODIFIED:20190128T074006Z
UID:4522-1492862400-1492871400@blujagency.com
SUMMARY:Credit & Home Buying 101 Seminar
DESCRIPTION:Are you ready to begin Your Journey Home? Please join the Blu J Agency for a FREE lunch-and-learn seminar about credit & home buying. This seminar will teach you the basics of understanding your credit\, how to build a budget and the first steps in the home buying process.\nHave a home buying question? Our experienced Blu J Realtors will be in attendance to answer any questions you may have about buying or selling a house.  \nLunch will be provided\n\nThe Blu J Agency is committed to educating first-time home buyers on the benefits of home ownership.\nSearch for your next home at http://www.BluJAgency.com
URL:https://blujagency.com/event/credit-home-buying-101-seminar/
LOCATION:Hampton Inn Rock Hill\, 2111 Tabor Drive\, Rock Hill\, SC\, 29730\, United States
ATTACH;FMTTYPE=image/jpeg:https://blujagency.com/wp-content/uploads/2018/12/83e3f1a13b427f9fb772a768683753fa.jpg
END:VEVENT
BEGIN:VEVENT
DTSTART;TZID=America/New_York:20160430T103000
DTEND;TZID=America/New_York:20160430T140000
DTSTAMP:20260421T195213
CREATED:20181220T235724Z
LAST-MODIFIED:20190128T074006Z
UID:4519-1462012200-1462024800@blujagency.com
SUMMARY:Your Journey Home Seminar
DESCRIPTION:Join the Blu J Agency as we kick-off the new Your Journey Home Program\, a special benefit for first-time homebuyers. Lunch will be provided.The workshop will cover:– What is a FICO (credit) score?– How do I establish good credit history?– Is homeownership good for me?– What are the steps in the home buying process?– How do I go about finding a lender & applying for a mortgage?– Any much more!
URL:https://blujagency.com/event/your-journey-home-seminar/
LOCATION:York County Regional Chamber of Commerce\, 116 East Main Street\, Rock Hill\, SC\, 29730\, United States
ATTACH;FMTTYPE=image/jpeg:https://blujagency.com/wp-content/uploads/2018/12/7623bd52669ce5f2db215bee3d6a9a4a.jpg
END:VEVENT
BEGIN:VEVENT
DTSTART;TZID=America/New_York:20150829T110000
DTEND;TZID=America/New_York:20150829T133000
DTSTAMP:20260421T195213
CREATED:20181220T235721Z
LAST-MODIFIED:20190128T074006Z
UID:4517-1440846000-1440855000@blujagency.com
SUMMARY:Financial Fitness Seminar
DESCRIPTION:Join us for a free Financial Fitness Seminar where financial education leads to financial empowerment. \nSeminar topics include:\n– Credit restoration tips & understanding your credit\n– How to financially prepare for purchasing a home\n– Steps in the home buying process\n Hosted by the Blu J Foundation and Zeta Phi Beta Sorority\, Delta Xi Zeta Chapter.\n“The beautiful thing about learning is nobody can take it from you.” ~B.B. King
URL:https://blujagency.com/event/financial-fitness-seminar/
LOCATION:York County Regional Chamber of Commerce\, 116 East Main Street\, Rock Hill\, SC\, 29730\, United States
ATTACH;FMTTYPE=image/jpeg:https://blujagency.com/wp-content/uploads/2018/12/21c3581a1a89814efa07f9fc4d05e901.jpg
END:VEVENT
BEGIN:VEVENT
DTSTART;TZID=America/New_York:20150425T110000
DTEND;TZID=America/New_York:20150425T133000
DTSTAMP:20260421T195213
CREATED:20181220T235720Z
LAST-MODIFIED:20190128T074005Z
UID:4515-1429959600-1429968600@blujagency.com
SUMMARY:Financial Fitness Seminar\, April  25\, 2015
DESCRIPTION:EVENT CANCELLED\n\nJoin us for a free workshop to learn about:\n\nCredit restoration tips\nPreparing financially for a home\nSteps in the home buying process\n\n\nTo learn more about the Blu J Agency\, visit http://www.BluJAgency.com. 
URL:https://blujagency.com/event/financial-fitness-seminar-april-25-2015/
LOCATION:York County Regional Chamber of Commerce\, 116 East Main Street\, Rock Hill\, SC\, 29730\, United States
ATTACH;FMTTYPE=image/jpeg:https://blujagency.com/wp-content/uploads/2018/12/10183b6c07671ac8fbbe017cfcc02a4f.jpg
END:VEVENT
BEGIN:VEVENT
DTSTART;TZID=America/New_York:20140628T110000
DTEND;TZID=America/New_York:20140628T130000
DTSTAMP:20260421T195213
CREATED:20181220T235718Z
LAST-MODIFIED:20190128T074009Z
UID:4512-1403953200-1403960400@blujagency.com
SUMMARY:Financial Fitness for Home Ownership Series
DESCRIPTION:Join us for the 2nd seminar in the Financial Fitness for Home Ownership Series. \n\nGain confidence in the home buying process! Come listen & learn from professionals that will guide you on the path to homeownership.\n\nYou will receive free information on:\n• Recap of how to increase your credit score\n• Overview of the financing process\n• How to obtain a loan pre-qualification\n• Required mortgage documents \n• When to begin looking for a house…and more!\n\n\nExtra Perks!\n• Refreshments provided\n• Prizes & gift cards awarded\n• Walk-ins welcome\n\n \nHosted in partnership with Montage Mortgage and the Delta Xi Zeta Chapter of Zeta Phi Beta Sorority\, Incorporated.\n\nFor more information\, visit BluJAgency.com
URL:https://blujagency.com/event/financial-fitness-for-home-ownership-series/
LOCATION:York County Regional Chamber\, 116 E. Main St\, Rock Hill\, SC\, 29731\, United States
ATTACH;FMTTYPE=image/jpeg:https://blujagency.com/wp-content/uploads/2018/12/34ee3f7250ac01fb095fac18d3fb0d6d.jpg
END:VEVENT
BEGIN:VEVENT
DTSTART;TZID=America/New_York:20140531T140000
DTEND;TZID=America/New_York:20140531T160000
DTSTAMP:20260421T195213
CREATED:20181220T235718Z
LAST-MODIFIED:20190128T074009Z
UID:4511-1401544800-1401552000@blujagency.com
SUMMARY:Financial Fitness for Home Owernship
DESCRIPTION: Our FREE seminar will cover…\n•practical tips to save for home ownership\n•how to obtain a free credit report\n•how credit rating impacts mortgage financing\n•how to interpret your credit report and dispute inaccurate information\n•information on down payment assistance programs\n•REALTORS® available to answer your home questions\n\n\nRefreshements and gift cards will be provided. \n\nHosted by the Blu J Agency and Zeta Phi Beta Sorority\, Incoporated.
URL:https://blujagency.com/event/financial-fitness-for-home-owernship/
LOCATION:York County Regional Chamber\, 116 E. Main St\, Rock Hill\, SC\, 29731\, United States
END:VEVENT
BEGIN:VEVENT
DTSTART;TZID=America/New_York:20140222T130000
DTEND;TZID=America/New_York:20140222T150000
DTSTAMP:20260421T195213
CREATED:20181220T235716Z
LAST-MODIFIED:20190128T074005Z
UID:4509-1393074000-1393081200@blujagency.com
SUMMARY:Financial Fitness For Home Ownership
DESCRIPTION:Your first step to financial independence is understanding your credit score and borrowing ability. Even if you are not in the market to purchase a home\, this seminar will provide great credit and financial improvement information. \n\nOur FREE seminar will cover…\n• practical tips to save for home ownership\n• how to obtain a free credit report\n• how credit rating impacts mortgage financing\n• how to interpret your credit report and dispute inaccurate information\n• information on down payment assistance programs\n\nRefreshments & door prizes will be provided. Walk-ins welcome.\n\nDownload the seminar flyer.\n\nFor additional questions contact\, Jerrianne Jackson at 803.378.8844.\n\nSeminar sponsored in partnership with Zeta Phi Beta Sorority\, Incorporated – Delta Xi Zeta Chapter
URL:https://blujagency.com/event/financial-fitness-for-home-ownership/
LOCATION:York County Regional Chamber\, 116 E. Main St\, Rock Hill\, SC\, 29731\, United States
ATTACH;FMTTYPE=image/jpeg:https://blujagency.com/wp-content/uploads/2018/12/211466a9c2d13104263f6c39b9540ef9.jpg
END:VEVENT
BEGIN:VEVENT
DTSTART;TZID=America/New_York:20121027T120000
DTEND;TZID=America/New_York:20121027T140000
DTSTAMP:20260421T195213
CREATED:20181220T235715Z
LAST-MODIFIED:20190128T073955Z
UID:4507-1351339200-1351346400@blujagency.com
SUMMARY:Home Buyers Seminar
DESCRIPTION:
URL:https://blujagency.com/event/home-buyers-seminar/
LOCATION:Fort Mill Public Library\, 1818 2nd Baxter Crossing\, Fort Mill\, SC\, 29708\, United States
ATTACH;FMTTYPE=image/jpeg:https://blujagency.com/wp-content/uploads/2018/12/d906431362feae8cc8e003526e54b04e.jpg
END:VEVENT
END:VCALENDAR